BEGIN:VCALENDAR
VERSION:2.0
PRODID:-//MetalExpress - ECPv6.15.19//NONSGML v1.0//EN
CALSCALE:GREGORIAN
METHOD:PUBLISH
X-WR-CALNAME:MetalExpress
X-ORIGINAL-URL:https://metalexpress.sk
X-WR-CALDESC:Udalosti pre MetalExpress
REFRESH-INTERVAL;VALUE=DURATION:PT1H
X-Robots-Tag:noindex
X-PUBLISHED-TTL:PT1H
BEGIN:VTIMEZONE
TZID:Europe/Bratislava
BEGIN:DAYLIGHT
TZOFFSETFROM:+0100
TZOFFSETTO:+0200
TZNAME:CEST
DTSTART:20220327T010000
END:DAYLIGHT
BEGIN:STANDARD
TZOFFSETFROM:+0200
TZOFFSETTO:+0100
TZNAME:CET
DTSTART:20221030T010000
END:STANDARD
BEGIN:DAYLIGHT
TZOFFSETFROM:+0100
TZOFFSETTO:+0200
TZNAME:CEST
DTSTART:20230326T010000
END:DAYLIGHT
BEGIN:STANDARD
TZOFFSETFROM:+0200
TZOFFSETTO:+0100
TZNAME:CET
DTSTART:20231029T010000
END:STANDARD
BEGIN:DAYLIGHT
TZOFFSETFROM:+0100
TZOFFSETTO:+0200
TZNAME:CEST
DTSTART:20240331T010000
END:DAYLIGHT
BEGIN:STANDARD
TZOFFSETFROM:+0200
TZOFFSETTO:+0100
TZNAME:CET
DTSTART:20241027T010000
END:STANDARD
END:VTIMEZONE
BEGIN:VEVENT
DTSTART;TZID=Europe/Bratislava:20230114T170000
DTEND;TZID=Europe/Bratislava:20230114T225900
DTSTAMP:20260424T092155
CREATED:20221214T115851Z
LAST-MODIFIED:20221214T120955Z
UID:45449-1673715600-1673737140@metalexpress.sk
SUMMARY:Sunflower Picnic II
DESCRIPTION:Druhý ročník pikniku ve slunečnicích\, tentokráte v černěné podpovrchové úpravě. Setkáme se 14. ledna po uzavření volebních místností ve Svitavském Tyjátru.\n\n\nTento večer vystoupí: \nDARK SEAL – Atmospheric Pagan Black Metal | Brno\nhttps://www.facebook.com/darkseal/ \nSYRIDAS – Melodic Death Metal | Ostrava\nhttps://www.facebook.com/Syridas \nGLOOMY SUNDAY – Black Metal | Opava\nhttps://www.facebook.com/GloomySundayOpava \nTRIGONUM MORTIS – Blackened Death Metal | Vysoké Mýto\nhttps://www.facebook.com/trigonummortis/
URL:https://metalexpress.sk/event/sunflower-picnic-ii-dark-seal-syridas-gloomy-sunday-trigonum-mortis-tyjatr-svitavy/
LOCATION:Alternativní klub Tyjátr\, Purkyňova 250\, Svitavy\, Pardubický kraj\, 568 02\, Česká republika
END:VEVENT
BEGIN:VEVENT
DTSTART;TZID=Europe/Bratislava:20230114T180000
DTEND;TZID=Europe/Bratislava:20230114T223000
DTSTAMP:20260424T092155
CREATED:20230104T075712Z
LAST-MODIFIED:20230104T075712Z
UID:45608-1673719200-1673735400@metalexpress.sk
SUMMARY:BURN FEST – vol.001 – APRIL WEEPS\, AUTUMN NOSTALGIE\, MARTUROS\, CRANIAL VOID
DESCRIPTION:BURN FEST – vol.001 – APRIL WEEPS\, AUTUMN NOSTALGIE\, MARTUROS\, CRANIAL VOID\n14.1.2023 TRNAVA – 10Bar \nZačiatkom nového roku prinesie BURN Booking do Trnavy prvý zo série koncertov s názvom BURN FEST. Na koncerte sa predstaví špička slovenskej metalovej scény – kapely April Weeps\, Autumn Nostalgie\, Marturos a Cranial Void. Príďte sa zabaviť a ochutnať všehochuť metalových subžánrov\, všetko od vynikajúcich slovenských kapiel. \nAPRIL WEEPS – Slovenským atmosferikom APRIL WEEPS vyšiel začiatkom júna tretí radový album „Cataclastic“\, ktorý je koncepčným dielom pojednávajúcom o životnom príbehu jednotlivca v súčasnej modernej dobe\, tlačiacej jeho potreby do úzadia. Kapela na tomto albume ešte viac prehĺbila rôznorodosť predošlej tvorby\, vstúpila do doteraz neprebádaných sfér\, zachovávajúc si však stále značne dravý a emočný náboj.\nhttps://www.aprilweeps.com/\nhttps://www.facebook.com/AprilWeeps\nhttps://www.instagram.com/aprilweepsofficial/\nhttps://open.spotify.com/artist/0PZe9Yxh3d9Mll0XHh7U3b\nhttps://aprilweeps.bandcamp.com/ \nAUTUMN NOSTALGIE – Post blackový fenomén AUTUMN NOSTALGIE si počas pandémie vybudoval raketové tempo. Ich druhý radový album Ataraxia plný zádumčivých melódii a nepopísateľnej atmosféry príde maďarsky spievajúca kapela odprezentovať aj do Trnavy.\nhttps://www.facebook.com/Autumn.Nostalgie.Official\nhttps://open.spotify.com/artist/03B0A96QDTp7XEa7JVD9gJ\nhttps://autumnnostalgie.bandcamp.com/ \nMARTUROS – Melodická heavy metalová kapela z Prievidze tento rok triumfovala s novým albumom Thy Will be Done. Ich živelný pódiový prejav pridáva dravej hudbe ďalší aspekt ktorý treba jednoznačne zažiť. Unikátny drsný vokál a drvivá rytmická sekcia spolu s poriadnou gitarovou pasovačkou a ostrými melodickými rifmi – to sú MARTUROS!\nhttps://www.facebook.com/marturosofficial\nhttps://www.instagram.com/marturosofficial\nhttps://open.spotify.com/artist/3VACZ30DKodg2j5fcb4Jzn \nCRANIAL VOID – Lineup uzatvára progresivná deathmetalová úderka CRANIAL VOID. Ich debutový album\, konceptuálny Celestial z roku 2021 prináša silný príbeh podporený hutnou a do detailu premyslenou hudobnou zložkou. V roku 2022 odohrali úctyhodné množstvo koncertov a nechystajú sa prestať.\nhttps://www.facebook.com/CranialVoid/\nhttps://cranialvoidband.bandcamp.com/releases\nhttps://open.spotify.com/artist/6er0mBTWLBYoPrTmVTXg6k \nPredpredaj vstupeniek – 8€\nCena vstupu na mieste – 10€ \nPredpredaj vstupeniek cez sieť predpredaj.sk\nhttps://predpredaj.zoznam.sk/en/tickets/burn-fest-vol001-2023-01-14/ \nLink na udalos5 na facebooku: https://fb.me/e/2bgTL2by9
URL:https://metalexpress.sk/event/burn-fest-vol-001-april-weeps-autumn-nostalgie-marturos-cranial-void/
LOCATION:Artklub TenKlub\, Šrobarova 670/10\, Trnava\, Slovakia\, Trnava\, Slovenská republika
CATEGORIES:Udalosti
ATTACH;FMTTYPE=image/jpeg:https://metalexpress.sk/wp-content/uploads/2023/01/burn-fest-poster_-scaled.jpg
ORGANIZER;CN="BURN_Booking":MAILTO:ohen.band@gmail.com
END:VEVENT
BEGIN:VEVENT
DTSTART;TZID=Europe/Bratislava:20230114T180000
DTEND;TZID=Europe/Bratislava:20230114T223000
DTSTAMP:20260424T092155
CREATED:20230109T141102Z
LAST-MODIFIED:20230109T141102Z
UID:45649-1673719200-1673735400@metalexpress.sk
SUMMARY:Punkreas / Nekultúra / Old Hämmer / Uhol Dopadu v Kulturáku!
DESCRIPTION:Punkový náklad s kapelami Punkreas\, Nekultúra\, Old Hämmer a Uhol Dopadu. V sobotu\, 14. januára v Kulturáku.\nVstup: 10 Eur (len na mieste)\nPunkreas \nhttps://www.facebook.com/punkreas.slovakia\n\n\nNekultúra\nhttps://www.facebook.com/profile.php?id=100052996633027\nOld Hämmer\nhttps://www.facebook.com/oldhammerband\nUhol Dopadu\nhttps://www.facebook.com/uholdopadu\n\nFB Udalosť: https://www.facebook.com/events/8466085316800248/\nText pochádza z udalosti na FB
URL:https://metalexpress.sk/event/punkreas-nekultura-old-hammer-uhol-dopadu-v-kulturaku/
LOCATION:Kulturák\, Štefánikova 47\, Bratislava\, Slovakia\, Bratislava\, Bratislavský Kraj\, 811 04\, Slovenská republika
ATTACH;FMTTYPE=image/jpeg:https://metalexpress.sk/wp-content/uploads/2023/01/319184635_829014541754562_1191762298294888871_n.jpg
END:VEVENT
BEGIN:VEVENT
DTSTART;TZID=Europe/Bratislava:20230114T180000
DTEND;TZID=Europe/Bratislava:20230114T223000
DTSTAMP:20260424T092155
CREATED:20230109T142222Z
LAST-MODIFIED:20230109T142222Z
UID:45653-1673719200-1673735400@metalexpress.sk
SUMMARY:Death revival /Perversity/Souls to deny v Košiciach!
DESCRIPTION:Koncert Bratislavskej formácia Death Revival\, ktorá je jednou z najlepších tuzemských revival skupín vôbec a chalani majú už svoje meno aj v zahraničí.\nhttps://www.facebook.com/DEATHrevivalSK/\nbandzone.cz/deathrevivalsk/\n\nSOULS TO DENY sa dali dokopy v roku 2019 a bubeník s basákom za sebou majú pôsobenie v DESECRATED DREAMS\, v 90. rokoch patriacich k skupinám\, ktoré dôrazom na melodiku a atmosférickosť budovali obzvlášť slovenskú tvár kovu smrti. Obaja s melodickým death metalom pokračovali aj v sľubných FEEL A CURSE\, ktorí pred dvoma rokmi ukončili činnosť.Nová kapela hraje death metal\, tentokrát však nestavia na nejakých silných melódiách\, skôr na drvivosti a agresii. Skladateľský vychádza z klasiky 90. rokov a siaha aj po grindcoreových a hardcoreových prvkoch\, ktoré hudbe SOULS TO DENY dodávajú nádych groove.\nhttps://www.facebook.com/SoulsToDeny/\n\nPERVERSITY – Koncertnú zostavu uzatvoria Perversity z východného slovenska. Svojim temným death metalom určite potešia všetkých zúčastnených a možno už príde aj na nejaké novinky.\nhttps://www.facebook.com/perversityband\n\nDátum: 14.1.2023\nMiesto: Collosseum Club\, Košice\nPredpredaj v klube 12€\nFB Udalosť: https://www.facebook.com/events/865536031303212/
URL:https://metalexpress.sk/event/death-revival-perversity-souls-to-deny-v-kosiciach/
LOCATION:Collosseum\, Dominikánske námestie 35\, Košice\, Košice\, 04001\, Slovenská republika
CATEGORIES:Udalosti
ATTACH;FMTTYPE=image/jpeg:https://metalexpress.sk/wp-content/uploads/2023/01/318844777_10161244299311535_1394177182060380736_n.jpg
END:VEVENT
END:VCALENDAR