BEGIN:VCALENDAR
VERSION:2.0
PRODID:-//MetalExpress - ECPv6.15.19//NONSGML v1.0//EN
CALSCALE:GREGORIAN
METHOD:PUBLISH
X-ORIGINAL-URL:https://metalexpress.sk
X-WR-CALDESC:Udalosti pre MetalExpress
REFRESH-INTERVAL;VALUE=DURATION:PT1H
X-Robots-Tag:noindex
X-PUBLISHED-TTL:PT1H
BEGIN:VTIMEZONE
TZID:Europe/Bratislava
BEGIN:DAYLIGHT
TZOFFSETFROM:+0100
TZOFFSETTO:+0200
TZNAME:CEST
DTSTART:20220327T010000
END:DAYLIGHT
BEGIN:STANDARD
TZOFFSETFROM:+0200
TZOFFSETTO:+0100
TZNAME:CET
DTSTART:20221030T010000
END:STANDARD
BEGIN:DAYLIGHT
TZOFFSETFROM:+0100
TZOFFSETTO:+0200
TZNAME:CEST
DTSTART:20230326T010000
END:DAYLIGHT
BEGIN:STANDARD
TZOFFSETFROM:+0200
TZOFFSETTO:+0100
TZNAME:CET
DTSTART:20231029T010000
END:STANDARD
BEGIN:DAYLIGHT
TZOFFSETFROM:+0100
TZOFFSETTO:+0200
TZNAME:CEST
DTSTART:20240331T010000
END:DAYLIGHT
BEGIN:STANDARD
TZOFFSETFROM:+0200
TZOFFSETTO:+0100
TZNAME:CET
DTSTART:20241027T010000
END:STANDARD
END:VTIMEZONE
BEGIN:VEVENT
DTSTART;TZID=Europe/Bratislava:20230110T180000
DTEND;TZID=Europe/Bratislava:20230110T223000
DTSTAMP:20260424T110423
CREATED:20230103T145335Z
LAST-MODIFIED:20230103T145335Z
UID:45594-1673373600-1673389800@metalexpress.sk
SUMMARY:Misþyrming\, Kringa\, Ritual Death\, Nubivagant v Randal Music Clube!
DESCRIPTION:V Bratislavskom Randal klube vystúpia dňa 10.1.2023 Misþyrming (Island\, black metal)\, Kringa (Rakúsko\, black metal)\, Ritual Death (Nórsko\, black/death metal) a Nubivagant (Taliansko\, black metal) v rámci svojho turné naprieč Európou. Ide o exkluzívny koncert v rámci Česka a Slovenska!!! \n https://www.facebook.com/events/437626708554752/ \nV Bratislavskom Randal klube vystúpia dňa 10.1.2023 štyri black metalové kapely v rámci svojho turné naprieč Európou. Tento exkluzívny koncert v rámci Čiech a Slovenska prináša do hlavného mesta zvučné mena v black metalovom undergrounde zo štyroch krajín európy a to Misþyrming z Islandu\, Kringa z Rakúska\, Ritual Death z Nórska\, a Nubivagant z  Talianska. \nNubivagant je sólový projekt velmi aktívneho muzikanta menom Omega\, ktorého je možnosť vidieť v nespočetnom množstve kapiel ako Darvaza\, Chaos Invocation\, Deathrow\, ex-Blut Aus Nord\, ex- Acherontas a mnoho ďalších. Nubivagant prináša originálne podanie epického black metalu na štýl Vikingskej éry Bathory s čistými spevmi v občasnom strednom tempe. Diskografia pozostáva z 2 albumov „Roaring Eye“ a „The Wheel and the Universe“ z tohto roka. Jedná sa o prvý koncert na Slovensku!!! \nRitual Death je kapela zo známej Nidaros scény a jej aktéra Wraath s členmi kapiel Kaosritual/Dark Sonority\, Mare\, One Tail One Head a mnoho ďalších. Okrem množstva EP a split albumov tento rok vychádza ich prvý plnohodnotný album s názvom „Ritual Death“\, ktorý sa nesie v štýle záhrobneho black/death metalu uctievajúceho sily Smrti ako 13th Moon\, Beherit alebo Void Meditation Cult. Jedná sa o prvý koncert na Slovensku!!! \nPrvým headlinerom je v našich končinách známa rakúska Kringa\, ktorá u nás už niekoľko krát hrala a získala si množstvo fanúšikov. Ich originálne ponatie black metalu odkazujúce na starú školu prináša extatický zážitok a ich koncerty sú plne nevídanej energie za občasného punkového rytmu. Okrem starých klasík predstavia aj novinky z nadchádzajúceho albumu\, ktorý nedávno vyšiel u Terratur Possessions. Kto ich už videl\, na koncert určite príde\, kto ešte nemal tú možnosť\, tak už má! Total Mental Desecration! \nHlavným headlinerom tejto black metalovej ceremónie je mocný  Misþyrming z ďalekého Islandu\, ktorý si za krátky čas získal obrovské ohlasy a patrí medzi najviac uznávané islandské kapely. Pre väčšinu undergroudnových fanúšikov známa vec\, ktorá pokračuje v odkaze veličín ako Svartidauði\, Sinamra či Deathspell Omega. Rovnako ako ostatné kapely tohto line-upu prináša Misþyrming  na pódium explóziu pulzujúcej energie v sprievode chaotických riffov a postupov! Okrem dvoch albumov „Söngvar elds og óreiðu“ z 2015 a „Algleymi“ z 2019 vydávajú aj tretí album v poradí –  „Með hamri“\, ktorý môžete exkluzívne počuť aj na tomto koncerte. Takisto sa jedná o prvý koncert na Slovensku\, preto si ho nenechajte ujsť\, bližšie už nebudú! \n  \nMISÞYRMING\nBlack Metal\, Iceland\nhttps://misthyrming.bandcamp.com \nKRINGA\nBlack Metal\, Austria\nhttps://theblazeofkringa.bandcamp.com \nRITUAL DEATH\nBlack Death Metal\, Norway\nhttps://ritualdeath.bandcamp.com \nNUBIVAGANT\nBlack Metal\, Italy\nhttps://nubivagant.bandcamp.com/
URL:https://metalexpress.sk/event/misthyrming-kringa-ritual-death-nubivagant-v-randal-music-clube/
LOCATION:Randal Music Club\, Karpatská 2\, Bratislava\, Bratislava\, Bratislavský Kraj\, 81105\, Slovenská republika
CATEGORIES:Udalosti
ATTACH;FMTTYPE=image/jpeg:https://metalexpress.sk/wp-content/uploads/2023/01/315049125_109208368673151_3436559932713169263_n.jpg
END:VEVENT
END:VCALENDAR