BEGIN:VCALENDAR
VERSION:2.0
PRODID:-//MetalExpress - ECPv6.15.19//NONSGML v1.0//EN
CALSCALE:GREGORIAN
METHOD:PUBLISH
X-WR-CALNAME:MetalExpress
X-ORIGINAL-URL:https://metalexpress.sk
X-WR-CALDESC:Udalosti pre MetalExpress
REFRESH-INTERVAL;VALUE=DURATION:PT1H
X-Robots-Tag:noindex
X-PUBLISHED-TTL:PT1H
BEGIN:VTIMEZONE
TZID:Europe/Bratislava
BEGIN:DAYLIGHT
TZOFFSETFROM:+0100
TZOFFSETTO:+0200
TZNAME:CEST
DTSTART:20220327T010000
END:DAYLIGHT
BEGIN:STANDARD
TZOFFSETFROM:+0200
TZOFFSETTO:+0100
TZNAME:CET
DTSTART:20221030T010000
END:STANDARD
BEGIN:DAYLIGHT
TZOFFSETFROM:+0100
TZOFFSETTO:+0200
TZNAME:CEST
DTSTART:20230326T010000
END:DAYLIGHT
BEGIN:STANDARD
TZOFFSETFROM:+0200
TZOFFSETTO:+0100
TZNAME:CET
DTSTART:20231029T010000
END:STANDARD
BEGIN:DAYLIGHT
TZOFFSETFROM:+0100
TZOFFSETTO:+0200
TZNAME:CEST
DTSTART:20240331T010000
END:DAYLIGHT
BEGIN:STANDARD
TZOFFSETFROM:+0200
TZOFFSETTO:+0100
TZNAME:CET
DTSTART:20241027T010000
END:STANDARD
END:VTIMEZONE
BEGIN:VEVENT
DTSTART;TZID=Europe/Bratislava:20230107T180000
DTEND;TZID=Europe/Bratislava:20230107T223000
DTSTAMP:20260424T092156
CREATED:20221230T083426Z
LAST-MODIFIED:20221230T083426Z
UID:45554-1673114400-1673130600@metalexpress.sk
SUMMARY:Bloody Redemption / Attack of Rage / Plastery / Demonic-eyed
DESCRIPTION:Nový rok odštartujeme týmto mäsokombinátom! Štvorica natlakovaných kapiel\, ktoré vám odpália dekel 7. januára v Kulturáku! \nBloody Redemption (old school death metal)\nhttps://awakeningrecordscn.bandcamp.com/…/hit-to-the-gore \nAttack of Rage (grind-death)\nhttps://attackofrage-map.bandcamp.com/album/sv-t-zlo \nPlastery (horror slimy plasterized skeletonized death metal)\nhttps://plastery.bandcamp.com/album/yes-of-corpse \nDemonic-eyed (thrash metal)\nhttps://demonic-eyed.bandcamp.com/album/demonic-eyed-3 \nDÁTUM: 07.01.2023\nMIESTO: Kulturák\, Bratislava\nVSTUP: 7 €\nFB Udalosť: https://www.facebook.com/events/834742247642166/
URL:https://metalexpress.sk/event/bloody-redemption-attack-of-rage-plastery-demonic-eyed/
LOCATION:Kulturák\, Štefánikova 47\, Bratislava\, Slovakia\, Bratislava\, Bratislavský Kraj\, 811 04\, Slovenská republika
CATEGORIES:Udalosti
ATTACH;FMTTYPE=image/jpeg:https://metalexpress.sk/wp-content/uploads/2022/12/318242082_822422115747138_393175313100015122_n.jpg
END:VEVENT
END:VCALENDAR