BEGIN:VCALENDAR
VERSION:2.0
PRODID:-//MetalExpress - ECPv6.15.19//NONSGML v1.0//EN
CALSCALE:GREGORIAN
METHOD:PUBLISH
X-WR-CALNAME:MetalExpress
X-ORIGINAL-URL:https://metalexpress.sk
X-WR-CALDESC:Udalosti pre MetalExpress
REFRESH-INTERVAL;VALUE=DURATION:PT1H
X-Robots-Tag:noindex
X-PUBLISHED-TTL:PT1H
BEGIN:VTIMEZONE
TZID:Europe/Bratislava
BEGIN:DAYLIGHT
TZOFFSETFROM:+0100
TZOFFSETTO:+0200
TZNAME:CEST
DTSTART:20210328T010000
END:DAYLIGHT
BEGIN:STANDARD
TZOFFSETFROM:+0200
TZOFFSETTO:+0100
TZNAME:CET
DTSTART:20211031T010000
END:STANDARD
BEGIN:DAYLIGHT
TZOFFSETFROM:+0100
TZOFFSETTO:+0200
TZNAME:CEST
DTSTART:20220327T010000
END:DAYLIGHT
BEGIN:STANDARD
TZOFFSETFROM:+0200
TZOFFSETTO:+0100
TZNAME:CET
DTSTART:20221030T010000
END:STANDARD
BEGIN:DAYLIGHT
TZOFFSETFROM:+0100
TZOFFSETTO:+0200
TZNAME:CEST
DTSTART:20230326T010000
END:DAYLIGHT
BEGIN:STANDARD
TZOFFSETFROM:+0200
TZOFFSETTO:+0100
TZNAME:CET
DTSTART:20231029T010000
END:STANDARD
END:VTIMEZONE
BEGIN:VEVENT
DTSTART;TZID=Europe/Bratislava:20221228T180000
DTEND;TZID=Europe/Bratislava:20221228T223000
DTSTAMP:20260424T092152
CREATED:20221226T102047Z
LAST-MODIFIED:20221226T102047Z
UID:45542-1672250400-1672266600@metalexpress.sk
SUMMARY:Randal pre Lemmyho túto stredu!
DESCRIPTION:Randal pre Lemmyho je tu znova.Pandémia je definitívne preč a my sa môžme tešiť na Motherhood z BA\, AC/DC revival\,DJ Kela a českého Lemmyho Jardu Chalupnika.\nLemmyho obľúbený nápoj JACK DANIELS bude za fantastické 1 € !!!!!!!!\nTreba prísť 🥃🍺 \nMotherhood\n \nDátum: 28.12.2022\nMiesto: Randal Music Club\, Bratislava\nVstup: 7€ na mieste\nPredpredaj: 5€\nFB Event: https://www.facebook.com/events/1853382234994373/ \nText prebratý z FB udalosti
URL:https://metalexpress.sk/event/randal-pre-lemmyho-tuto-stredu/
LOCATION:Randal Music Club\, Karpatská 2\, Bratislava\, Bratislava\, Bratislavský Kraj\, 81105\, Slovenská republika
CATEGORIES:Udalosti
ATTACH;FMTTYPE=image/jpeg:https://metalexpress.sk/wp-content/uploads/2022/12/319550632_6023219091064256_8108937727218340237_n.jpg
END:VEVENT
END:VCALENDAR