BEGIN:VCALENDAR
VERSION:2.0
PRODID:-//MetalExpress - ECPv6.15.19//NONSGML v1.0//EN
CALSCALE:GREGORIAN
METHOD:PUBLISH
X-WR-CALNAME:MetalExpress
X-ORIGINAL-URL:https://metalexpress.sk
X-WR-CALDESC:Udalosti pre MetalExpress
REFRESH-INTERVAL;VALUE=DURATION:PT1H
X-Robots-Tag:noindex
X-PUBLISHED-TTL:PT1H
BEGIN:VTIMEZONE
TZID:Europe/Bratislava
BEGIN:DAYLIGHT
TZOFFSETFROM:+0100
TZOFFSETTO:+0200
TZNAME:CEST
DTSTART:20210328T010000
END:DAYLIGHT
BEGIN:STANDARD
TZOFFSETFROM:+0200
TZOFFSETTO:+0100
TZNAME:CET
DTSTART:20211031T010000
END:STANDARD
BEGIN:DAYLIGHT
TZOFFSETFROM:+0100
TZOFFSETTO:+0200
TZNAME:CEST
DTSTART:20220327T010000
END:DAYLIGHT
BEGIN:STANDARD
TZOFFSETFROM:+0200
TZOFFSETTO:+0100
TZNAME:CET
DTSTART:20221030T010000
END:STANDARD
BEGIN:DAYLIGHT
TZOFFSETFROM:+0100
TZOFFSETTO:+0200
TZNAME:CEST
DTSTART:20230326T010000
END:DAYLIGHT
BEGIN:STANDARD
TZOFFSETFROM:+0200
TZOFFSETTO:+0100
TZNAME:CET
DTSTART:20231029T010000
END:STANDARD
END:VTIMEZONE
BEGIN:VEVENT
DTSTART;TZID=Europe/Bratislava:20221217T160000
DTEND;TZID=Europe/Bratislava:20221217T223000
DTSTAMP:20260424T123750
CREATED:20221213T170520Z
LAST-MODIFIED:20221213T170520Z
UID:45438-1671292800-1671316200@metalexpress.sk
SUMMARY:CHRISTMAS mazec vol. 4.
DESCRIPTION:Snad už taky konečně!!! Po dvou covidových letech tu máme 4. ročník oblíbené zimní edice mazce v kultovní hospodě U Vodvárků v Kolíně!!! Než zavraždíte prasátko a kapříka přijďte si k nám hodit palicí!!!! Kdo\, že to bude tento rok k dispozici???\nELYSIUM – klasika z Týnca\, domácí metal jak sviňa!!! Death – core a kdo ví co ještě /Týnec nad Labem/\nhttps://youtu.be/7N-puT9YyoE\nhttps://elysiumcz.bandcamp.com/\nBRUTALLY DECEASED – hrubozrný deathmetal švédského stylu s českým Corpsegrinderem v čele /Praha/\nhttps://youtu.be/q4p68k9Q7rI\nhttps://brutallydeceased.bandcamp.com/\nCONGENITAL ANOMALIES – slam death US střihu s novou nahrávkou na stole /Praha/\nhttps://youtu.be/GqgS23p4ikY\nhttps://congenitalanomalies.bandcamp.com/\nINCEPTION OF FALL – našláplý technický death metal mladé krve /Přerov/Kroměříž /\nhttps://youtu.be/B6Q__OlkH1E\nhttps://inceptionoffall.bandcamp.com/\nLAID TO WASTE – na perníku zrychlený speed thrash /Plzeň/\nhttps://youtu.be/AJ6K1ven3TM\nhttps://laidtowastethrash.bandcamp.com\nSPACE HAMSTER – černý kuň toto ročníku\, zábavný mix metalových stylů /Brno/\nhttps://youtu.be/Wo_LcB8phKI\nhttps://spacehamster.bandcamp.com\nNeseď na zadku a dojdi!!!\n\nDátum: 17.12.2022\nMiesto: U vodvárků\, Kolín\nFB Event: https://www.facebook.com/events/435015028425366/
URL:https://metalexpress.sk/event/christmas-mazec-vol-4/
LOCATION:U vodvárků\, Veltrubská 330\, Kolín\, Czech Republic\, Kolín\, Česká republika
CATEGORIES:Udalosti
ATTACH;FMTTYPE=image/jpeg:https://metalexpress.sk/wp-content/uploads/2022/12/300958066_5102841896508558_1810787761238770650_n-scaled.jpg
END:VEVENT
BEGIN:VEVENT
DTSTART;TZID=Europe/Bratislava:20221217T163000
DTEND;TZID=Europe/Bratislava:20221217T223000
DTSTAMP:20260424T123750
CREATED:20221217T131150Z
LAST-MODIFIED:20221217T131150Z
UID:45513-1671294600-1671316200@metalexpress.sk
SUMMARY:Grind Party v Lesnice!
DESCRIPTION:Line up:\nOpen 17.30\nPrůmyslová Smrt 18.00-18.35\nAbortion 19.00-19.35\nCritical Madness 20.00-20.35\nSick Sinus Syndrome 21.00-21.35\nBowelFuck 22.00-22.35\nImpulsealer 23.00-23.35\nBirdflesh 0.00-0.45\nNa čepu jedenáctistupňove pivo Litovel Moravan za 40\,- kč\nzelená 30\,- jegermaister 50\,-\,beefeater 50\,-\,finlandia 40\,- a další..\nmícháné nápoje: rum s colou za 60\,-\,rum s colou bez coly 30\,-\nMísto konání:\nLesnice\,Kulturní dům\,č.p. 168\,78901\nhttps://mapy.cz/zakladni?source=muni&id=342&ds=1… \nVstup: do 18.30 400\,-\nod 18.31 450\,- \nPRůMYSLOVÁ SMRT\nhttps://www.facebook.com/prumyslovasmrt/\n \nABORTION\nhttps://www.facebook.com/abortiongrindcore\n \nCRITICAL MADNESS\nhttps://www.facebook.com/profile.php?id=100039214483694\n \nSICK SINUS SYNDROME\nhttps://www.facebook.com/6ick6inus6yndrome\n \nBOWEL FUCK\nhttps://www.facebook.com/bfgoregrind\n \nIMPULSEALER\nhttps://www.facebook.com/impulsealer\n \nBIRDFLESH\nhttps://www.facebook.com/birdfleshgrind\n \nText z FB Udalosti
URL:https://metalexpress.sk/event/grind-party-v-lesnice/
LOCATION:Lesnice\, Lesnice\, 789 01 Lesnice\, Česká Republika\, Lesnice\, 789 01\, Česká republika
CATEGORIES:Udalosti
ATTACH;FMTTYPE=image/jpeg:https://metalexpress.sk/wp-content/uploads/2022/12/320003124_862257568309342_5227815269456811690_n-1.jpg
END:VEVENT
BEGIN:VEVENT
DTSTART;TZID=Europe/Bratislava:20221217T170000
DTEND;TZID=Europe/Bratislava:20221217T220000
DTSTAMP:20260424T123750
CREATED:20221214T125426Z
LAST-MODIFIED:20221214T125426Z
UID:45465-1671296400-1671314400@metalexpress.sk
SUMMARY:X-Mass Rock 6.1 v sobotu v Partizánskom
DESCRIPTION:Konečne po dvoch rokoch opäť X-mass rock. Už tradične na Salaši. \nKapely:\nWarriors of Steel (Manowar Tribute BA)\nhttps://www.facebook.com/profile.php?id=100088209679863\nhttps://www.youtube.com/watch?v=bYmTBiuoxTA&ab_channel=Fred \nKnightmare (heavy metal PE)\nhttps://www.facebook.com/KnightmareSlovakia\nhttps://www.youtube.com/watch?v=IaD8BDOFqG0… \nPerformed (Thrash Metal PD)\nhttps://www.facebook.com/performedmetal\nhttps://www.youtube.com/watch?v=fVTmUIypXj8… \nPeorth (Melodic death Metal VB)\nhttps://www.facebook.com/peorthsvk\nhttps://www.youtube.com/watch?v=lpYqvcwl5Dc... \nNot Promising Case (Goth/Hard Rock DK)\nhttps://www.facebook.com/NotPromisingCaseSK\nhttps://www.youtube.com/watch?v=UHRpc8LVnZk… \nText z udalosti na Facebooku
URL:https://metalexpress.sk/event/x-mass-rock-6-1-v-sobotu-v-partizanskom/
LOCATION:Salaš Partizánske\, Pod Salašom 1857/1 95801 Partizánske\, Partizánske\, Slovenská republika
CATEGORIES:Udalosti
ATTACH;FMTTYPE=image/jpeg:https://metalexpress.sk/wp-content/uploads/2022/12/316136058_10217783562940084_5812181432010284883_n.jpg
END:VEVENT
BEGIN:VEVENT
DTSTART;TZID=Europe/Bratislava:20221217T180000
DTEND;TZID=Europe/Bratislava:20221217T223000
DTSTAMP:20260424T123750
CREATED:20221217T103346Z
LAST-MODIFIED:20221217T103346Z
UID:45486-1671300000-1671316200@metalexpress.sk
SUMMARY:Zero Session 9 NOC TEMNOTY v Topoľčanoch!
DESCRIPTION:Noc Temnoty Death Metal : čaká nás noc plná death\, metalu\, doom metalu a progres metalu. Zahrajú kapely Together as one (tribute kapela – Death)\, Thalarion\, Samsara a Scelleus. Koncert sa uskutoční v Barbar Bare v Topoľčanoch.  \nTogether as one\n \nThalarion \n \nScelleus \n \nSamsara \n \nZvyšné detaily a informácie ku koncertu nájdete nižšie.
URL:https://metalexpress.sk/event/zero-session-9-noc-temnoty-v-topolcanoch/
LOCATION:BarBar Club Music\, Bernolákova 1546\, Topoľčany\, Topoľčany\, Topoľčany\, 955 01\, Slovenská republika
CATEGORIES:Udalosti
ATTACH;FMTTYPE=image/jpeg:https://metalexpress.sk/wp-content/uploads/2022/12/313430282_143435065106896_1191310831269349132_n.jpg
END:VEVENT
BEGIN:VEVENT
DTSTART;TZID=Europe/Bratislava:20221217T180000
DTEND;TZID=Europe/Bratislava:20221217T223000
DTSTAMP:20260424T123750
CREATED:20221217T104751Z
LAST-MODIFIED:20221217T104751Z
UID:45494-1671300000-1671316200@metalexpress.sk
SUMMARY:Christmas Metal Meeting vo Vrútkach!
DESCRIPTION:V sobotu 17.12.2022 sa v klube Mlyn vo Vrútkach uskutoční koncert troch metalových slovenských kapiel. Zahrajú vám death metaloví Pyopoesy\, HC-metal a zároveň organizátori Editor a thrash metal v podaní kapely Vendeta.\nPodujatie: https://www.facebook.com/events/658986095904594/ \nVendeta\nhttps://www.facebook.com/profile.php?id=100070543622526\nhttp://vendetaband.com/\nPyopoesy\nhttps://www.facebook.com/pyopoesy\n \nEditor\nhttps://bandzone.cz/editor\nhttps://www.facebook.com/kapelaeditor
URL:https://metalexpress.sk/event/christmas-metal-meeting-vo-vrutkach/
LOCATION:RC Mlyn\, Matušovičovský rad 5652\, Vrútky\, Slovakia\, Vrútky\, Vrútky\, 038 61\, Slovenská republika
CATEGORIES:Udalosti
ATTACH;FMTTYPE=image/jpeg:https://metalexpress.sk/wp-content/uploads/2022/12/315174035_524102216397465_1873927261497344706_n.jpg
END:VEVENT
BEGIN:VEVENT
DTSTART;TZID=Europe/Bratislava:20221217T180000
DTEND;TZID=Europe/Bratislava:20221217T223000
DTSTAMP:20260424T123750
CREATED:20221217T105640Z
LAST-MODIFIED:20221217T105640Z
UID:45500-1671300000-1671316200@metalexpress.sk
SUMMARY:Vegánsky tlak vol. 7 v Kulturáku!
DESCRIPTION:Ďalší tlak je tu! V sobotu sedemnásteho decembra vám Axel natlačí burgre do hlavy a kapely muziku do uší!\nTlakovať budú: \nJakubysko\nhttps://jakubysko.bandcamp.com/album/s-t\nBlind Rättvisa\nhttps://blindrattvisa.bandcamp.com/…/bury-your-stupid-days\nWargame\nhttps://wargamedbeat.bandcamp.com/album/wargame \nLink na udalosť: https://www.facebook.com/events/529656702159078/
URL:https://metalexpress.sk/event/vegansky-tlak-vol-7-v-kulturaku/
LOCATION:Kulturák\, Štefánikova 47\, Bratislava\, Slovakia\, Bratislava\, Bratislavský Kraj\, 811 04\, Slovenská republika
CATEGORIES:Udalosti
ATTACH;FMTTYPE=image/jpeg:https://metalexpress.sk/wp-content/uploads/2022/12/317582435_822366729086010_5431853079318428887_n.jpg
ORGANIZER;CN="Kultur%C3%A1k klub":MAILTO:kulturakklub@gmail.com
END:VEVENT
END:VCALENDAR